Package: scatterHatch Version: 1.14.0 Command: /home/biocbuild/R/R/bin/R CMD build --keep-empty-dirs --no-resave-data scatterHatch StartedAt: 2025-10-14 04:21:21 -0000 (Tue, 14 Oct 2025) EndedAt: 2025-10-14 04:22:05 -0000 (Tue, 14 Oct 2025) EllapsedTime: 44.0 seconds RetCode: 0 Status: OK PackageFile: scatterHatch_1.14.0.tar.gz PackageFileSize: 3.041 MiB