Package: scater Version: 1.38.0 Command: /home/biocbuild/bbs-3.22-bioc/R/bin/R CMD INSTALL scater StartedAt: 2025-11-09 15:57:06 -0500 (Sun, 09 Nov 2025) EndedAt: 2025-11-09 15:57:37 -0500 (Sun, 09 Nov 2025) EllapsedTime: 31.5 seconds RetCode: 0 Status: OK