Package: scater Version: 1.38.0 Command: /home/biocbuild/bbs-3.22-bioc/R/bin/R CMD check --install=check:scater.install-out.txt --library=/home/biocbuild/bbs-3.22-bioc/R/site-library --timings scater_1.38.0.tar.gz StartedAt: 2025-11-10 03:51:58 -0500 (Mon, 10 Nov 2025) EndedAt: 2025-11-10 04:02:57 -0500 (Mon, 10 Nov 2025) EllapsedTime: 658.9 seconds RetCode: 0 Status: OK CheckDir: scater.Rcheck Warnings: 0