Package: scater Version: 1.38.0 Command: /home/biocbuild/bbs-3.22-bioc/R/bin/R CMD build --keep-empty-dirs --no-resave-data --md5 scater StartedAt: 2025-11-09 19:58:32 -0500 (Sun, 09 Nov 2025) EndedAt: 2025-11-09 20:01:22 -0500 (Sun, 09 Nov 2025) EllapsedTime: 170.1 seconds RetCode: 0 Status: OK PackageFile: scater_1.38.0.tar.gz PackageFileSize: 4.354 MiB