Package: scanMiRApp Version: 1.16.0 Command: /home/biocbuild/bbs-3.22-bioc/R/bin/R CMD INSTALL scanMiRApp StartedAt: 2025-11-09 15:54:48 -0500 (Sun, 09 Nov 2025) EndedAt: 2025-11-09 15:55:40 -0500 (Sun, 09 Nov 2025) EllapsedTime: 52.7 seconds RetCode: 0 Status: OK