Package: scanMiRApp Version: 1.16.0 Command: /home/biocbuild/bbs-3.22-bioc/R/bin/R CMD build --keep-empty-dirs --no-resave-data --md5 scanMiRApp StartedAt: 2025-11-09 19:57:40 -0500 (Sun, 09 Nov 2025) EndedAt: 2025-11-09 19:59:12 -0500 (Sun, 09 Nov 2025) EllapsedTime: 92.1 seconds RetCode: 0 Status: OK PackageFile: scanMiRApp_1.16.0.tar.gz PackageFileSize: 907.3 KiB