Package: scanMiRApp Version: 1.16.0 Command: /Library/Frameworks/R.framework/Resources/bin/R CMD INSTALL scanMiRApp StartedAt: 2025-11-09 15:28:20 -0500 (Sun, 09 Nov 2025) EndedAt: 2025-11-09 15:28:40 -0500 (Sun, 09 Nov 2025) EllapsedTime: 19.9 seconds RetCode: 0 Status: OK