Package: scanMiRApp Version: 1.16.0 Command: rm -rf scanMiRApp.buildbin-libdir && mkdir scanMiRApp.buildbin-libdir && /Users/biocbuild/BBS/utils/build-universal.sh scanMiRApp_1.16.0.tar.gz /Library/Frameworks/R.framework/Resources/bin/R scanMiRApp.buildbin-libdir StartedAt: 2025-11-09 23:23:15 -0500 (Sun, 09 Nov 2025) EndedAt: 2025-11-09 23:23:36 -0500 (Sun, 09 Nov 2025) EllapsedTime: 21.4 seconds RetCode: 0 Status: OK PackageFile: scanMiRApp_1.16.0.tgz PackageFileSize: 1.339 MiB