Package: scafari Version: 1.0.0 Command: /home/biocbuild/R/R/bin/R CMD INSTALL scafari StartedAt: 2025-11-20 22:38:45 -0000 (Thu, 20 Nov 2025) EndedAt: 2025-11-20 22:40:06 -0000 (Thu, 20 Nov 2025) EllapsedTime: 80.7 seconds RetCode: 0 Status: OK