Package: scafari Version: 1.0.0 Command: /home/biocbuild/R/R/bin/R CMD build --keep-empty-dirs --no-resave-data scafari StartedAt: 2025-11-21 05:29:54 -0000 (Fri, 21 Nov 2025) EndedAt: 2025-11-21 05:34:16 -0000 (Fri, 21 Nov 2025) EllapsedTime: 262.1 seconds RetCode: 0 Status: OK PackageFile: scafari_1.0.0.tar.gz PackageFileSize: 7.648 MiB