Package: scafari Version: 1.0.0 Command: /home/biocbuild/bbs-3.22-bioc/R/bin/R CMD INSTALL scafari StartedAt: 2025-11-09 15:48:24 -0500 (Sun, 09 Nov 2025) EndedAt: 2025-11-09 15:49:33 -0500 (Sun, 09 Nov 2025) EllapsedTime: 69.1 seconds RetCode: 0 Status: OK