Package: scafari Version: 1.0.0 Command: /Library/Frameworks/R.framework/Resources/bin/R CMD INSTALL scafari StartedAt: 2025-11-10 15:24:26 -0500 (Mon, 10 Nov 2025) EndedAt: 2025-11-10 15:24:51 -0500 (Mon, 10 Nov 2025) EllapsedTime: 24.8 seconds RetCode: 0 Status: OK