Package: scafari Version: 1.0.0 Command: /Library/Frameworks/R.framework/Resources/bin/R CMD check --install=check:scafari.install-out.txt --library=/Library/Frameworks/R.framework/Resources/library --no-vignettes --timings scafari_1.0.0.tar.gz StartedAt: 2025-11-10 22:08:23 -0500 (Mon, 10 Nov 2025) EndedAt: 2025-11-10 22:12:16 -0500 (Mon, 10 Nov 2025) EllapsedTime: 232.7 seconds RetCode: 0 Status: OK CheckDir: scafari.Rcheck Warnings: 0