Package: scafari Version: 1.0.0 Command: rm -rf scafari.buildbin-libdir && mkdir scafari.buildbin-libdir && /Users/biocbuild/BBS/utils/build-universal.sh scafari_1.0.0.tar.gz /Library/Frameworks/R.framework/Resources/bin/R scafari.buildbin-libdir StartedAt: 2025-11-10 23:35:06 -0500 (Mon, 10 Nov 2025) EndedAt: 2025-11-10 23:35:32 -0500 (Mon, 10 Nov 2025) EllapsedTime: 26.4 seconds RetCode: 0 Status: OK PackageFile: scafari_1.0.0.tgz PackageFileSize: 7.921 MiB