Package: scafari Version: 1.0.0 Maintainer: Sophie Wind MaintainerEmail: sophie.wind at uni-muenster.de git_url: https://git.bioconductor.org/packages/scafari git_branch: RELEASE_3_22 git_last_commit: 31af230 git_last_commit_date: 2025-10-29 11:36:58 -0500 (Wed, 29 Oct 2025)