Package: scTensor Version: 2.19.2 Command: /home/biocbuild/R/R/bin/R CMD check --install=check:scTensor.install-out.txt --library=/home/biocbuild/R/R/site-library --no-vignettes --timings scTensor_2.19.2.tar.gz StartedAt: 2025-10-17 13:28:38 -0000 (Fri, 17 Oct 2025) EndedAt: 2025-10-17 13:36:35 -0000 (Fri, 17 Oct 2025) EllapsedTime: 476.7 seconds RetCode: 0 Status: WARNINGS CheckDir: scTensor.Rcheck Warnings: 1