Package: scTensor Version: 2.19.2 Command: /home/biocbuild/R/R/bin/R CMD build --keep-empty-dirs --no-resave-data scTensor StartedAt: 2025-10-21 03:02:22 -0000 (Tue, 21 Oct 2025) EndedAt: 2025-10-21 03:05:10 -0000 (Tue, 21 Oct 2025) EllapsedTime: 168.1 seconds RetCode: 0 Status: OK PackageFile: scTensor_2.19.2.tar.gz PackageFileSize: 10.38 MiB