Package: scTGIF Version: 1.23.0 Command: F:\biocbuild\bbs-3.22-bioc\R\bin\R.exe CMD INSTALL scTGIF StartedAt: 2025-08-14 16:12:54 -0400 (Thu, 14 Aug 2025) EndedAt: 2025-08-14 16:13:44 -0400 (Thu, 14 Aug 2025) EllapsedTime: 50.0 seconds RetCode: 0 Status: OK