Package: scTGIF Version: 1.23.0 Command: chmod a+r scTGIF -R && F:\biocbuild\bbs-3.22-bioc\R\bin\R.exe CMD build --keep-empty-dirs --no-resave-data scTGIF StartedAt: 2025-08-14 23:10:41 -0400 (Thu, 14 Aug 2025) EndedAt: 2025-08-14 23:12:51 -0400 (Thu, 14 Aug 2025) EllapsedTime: 130.1 seconds RetCode: 0 Status: OK PackageFile: scTGIF_1.23.0.tar.gz PackageFileSize: 2.367 MiB