Package: scTGIF Version: 1.22.0 Command: /Library/Frameworks/R.framework/Resources/bin/R CMD INSTALL scTGIF StartedAt: 2025-04-21 15:14:56 -0400 (Mon, 21 Apr 2025) EndedAt: 2025-04-21 15:15:10 -0400 (Mon, 21 Apr 2025) EllapsedTime: 14.5 seconds RetCode: 0 Status: OK