Package: scTGIF Version: 1.22.0 Command: /Library/Frameworks/R.framework/Resources/bin/R CMD build --keep-empty-dirs --no-resave-data scTGIF StartedAt: 2025-04-21 17:36:59 -0400 (Mon, 21 Apr 2025) EndedAt: 2025-04-21 17:37:29 -0400 (Mon, 21 Apr 2025) EllapsedTime: 29.3 seconds RetCode: 0 Status: OK PackageFile: scTGIF_1.22.0.tar.gz PackageFileSize: 2.412 MiB