Package: scTGIF Version: 1.22.0 Command: rm -rf scTGIF.buildbin-libdir && mkdir scTGIF.buildbin-libdir && /Users/biocbuild/BBS/utils/build-universal.sh scTGIF_1.22.0.tar.gz /Library/Frameworks/R.framework/Resources/bin/R scTGIF.buildbin-libdir StartedAt: 2025-04-21 22:51:50 -0400 (Mon, 21 Apr 2025) EndedAt: 2025-04-21 22:52:08 -0400 (Mon, 21 Apr 2025) EllapsedTime: 18.3 seconds RetCode: 0 Status: OK PackageFile: scTGIF_1.22.0.tgz PackageFileSize: 2.032 MiB