Package: scShapes Version: 1.16.0 Command: /home/biocbuild/bbs-3.22-bioc/R/bin/R CMD INSTALL scShapes StartedAt: 2025-11-06 15:04:48 -0500 (Thu, 06 Nov 2025) EndedAt: 2025-11-06 15:05:07 -0500 (Thu, 06 Nov 2025) EllapsedTime: 19.4 seconds RetCode: 0 Status: OK