Package: scRepertoire Version: 2.5.6 Command: /home/biocbuild/R/R/bin/R CMD check --install=check:scRepertoire.install-out.txt --library=/home/biocbuild/R/R/site-library --no-vignettes --timings scRepertoire_2.5.6.tar.gz StartedAt: 2025-10-17 13:27:07 -0000 (Fri, 17 Oct 2025) EndedAt: 2025-10-17 13:40:10 -0000 (Fri, 17 Oct 2025) EllapsedTime: 783.2 seconds RetCode: 0 Status: OK CheckDir: scRepertoire.Rcheck Warnings: 0