Package: scRepertoire Version: 2.5.3 Command: rm -rf scRepertoire.buildbin-libdir && mkdir scRepertoire.buildbin-libdir && F:\biocbuild\bbs-3.22-bioc\R\bin\R.exe CMD INSTALL --build --library=scRepertoire.buildbin-libdir scRepertoire_2.5.3.tar.gz StartedAt: 2025-08-15 11:16:41 -0400 (Fri, 15 Aug 2025) EndedAt: 2025-08-15 11:20:09 -0400 (Fri, 15 Aug 2025) EllapsedTime: 207.7 seconds RetCode: 0 Status: OK PackageFile: scRepertoire_2.5.3.zip PackageFileSize: 5.424 MiB