Package: scRecover Version: 1.25.0 Command: /home/biocbuild/R/R/bin/R CMD INSTALL scRecover StartedAt: 2025-10-23 20:22:32 -0000 (Thu, 23 Oct 2025) EndedAt: 2025-10-23 20:23:36 -0000 (Thu, 23 Oct 2025) EllapsedTime: 64.1 seconds RetCode: 0 Status: OK