Package: scRecover Version: 1.25.0 Command: /home/biocbuild/R/R/bin/R CMD check --install=check:scRecover.install-out.txt --library=/home/biocbuild/R/R/site-library --no-vignettes --timings scRecover_1.25.0.tar.gz StartedAt: 2025-10-17 13:26:40 -0000 (Fri, 17 Oct 2025) EndedAt: 2025-10-17 13:28:56 -0000 (Fri, 17 Oct 2025) EllapsedTime: 136.2 seconds RetCode: 0 Status: OK CheckDir: scRecover.Rcheck Warnings: 0