Package: scRecover Version: 1.24.0 Command: chmod a+r scRecover -R && E:\biocbuild\bbs-3.21-bioc\R\bin\R.exe CMD build --keep-empty-dirs --no-resave-data scRecover StartedAt: 2025-08-14 22:05:29 -0400 (Thu, 14 Aug 2025) EndedAt: 2025-08-14 22:08:02 -0400 (Thu, 14 Aug 2025) EllapsedTime: 152.7 seconds RetCode: 0 Status: OK PackageFile: scRecover_1.24.0.tar.gz PackageFileSize: 1.712 MiB