Package: scRecover Version: 1.26.0 Command: /home/biocbuild/bbs-3.22-bioc/R/bin/R CMD check --install=check:scRecover.install-out.txt --library=/home/biocbuild/bbs-3.22-bioc/R/site-library --timings scRecover_1.26.0.tar.gz StartedAt: 2025-11-07 03:51:12 -0500 (Fri, 07 Nov 2025) EndedAt: 2025-11-07 03:54:30 -0500 (Fri, 07 Nov 2025) EllapsedTime: 198.1 seconds RetCode: 0 Status: OK CheckDir: scRecover.Rcheck Warnings: 0