Package: scPipe Version: 2.9.0 Command: /home/biocbuild/R/R/bin/R CMD build --keep-empty-dirs --no-resave-data scPipe StartedAt: 2025-10-21 02:58:32 -0000 (Tue, 21 Oct 2025) EndedAt: 2025-10-21 03:04:18 -0000 (Tue, 21 Oct 2025) EllapsedTime: 346.1 seconds RetCode: 0 Status: OK PackageFile: scPipe_2.9.0.tar.gz PackageFileSize: 12.54 MiB