Package: scPipe Version: 2.10.0 Command: /Library/Frameworks/R.framework/Resources/bin/R CMD INSTALL scPipe StartedAt: 2025-11-03 15:35:13 -0500 (Mon, 03 Nov 2025) EndedAt: 2025-11-03 15:38:00 -0500 (Mon, 03 Nov 2025) EllapsedTime: 167.0 seconds RetCode: 0 Status: OK