Package: scPipe Version: 2.10.0 Command: /Library/Frameworks/R.framework/Resources/bin/R CMD check --install=check:scPipe.install-out.txt --library=/Library/Frameworks/R.framework/Resources/library --no-vignettes --timings scPipe_2.10.0.tar.gz StartedAt: 2025-11-04 00:08:55 -0500 (Tue, 04 Nov 2025) EndedAt: 2025-11-04 00:20:54 -0500 (Tue, 04 Nov 2025) EllapsedTime: 719.1 seconds RetCode: 0 Status: OK CheckDir: scPipe.Rcheck Warnings: 0