Package: scPipe Version: 2.10.0 Command: /Library/Frameworks/R.framework/Resources/bin/R CMD INSTALL scPipe StartedAt: 2025-11-10 15:16:36 -0500 (Mon, 10 Nov 2025) EndedAt: 2025-11-10 15:17:20 -0500 (Mon, 10 Nov 2025) EllapsedTime: 43.8 seconds RetCode: 0 Status: OK