Package: scPipe Version: 2.10.0 Command: /Library/Frameworks/R.framework/Resources/bin/R CMD check --install=check:scPipe.install-out.txt --library=/Library/Frameworks/R.framework/Resources/library --no-vignettes --timings scPipe_2.10.0.tar.gz StartedAt: 2025-11-10 22:15:41 -0500 (Mon, 10 Nov 2025) EndedAt: 2025-11-10 22:19:53 -0500 (Mon, 10 Nov 2025) EllapsedTime: 251.9 seconds RetCode: 0 Status: OK CheckDir: scPipe.Rcheck Warnings: 0