Package: scPipe Version: 2.10.0 Command: rm -rf scPipe.buildbin-libdir && mkdir scPipe.buildbin-libdir && /Users/biocbuild/BBS/utils/build-universal.sh scPipe_2.10.0.tar.gz /Library/Frameworks/R.framework/Resources/bin/R scPipe.buildbin-libdir StartedAt: 2025-11-10 23:36:02 -0500 (Mon, 10 Nov 2025) EndedAt: 2025-11-10 23:36:49 -0500 (Mon, 10 Nov 2025) EllapsedTime: 46.8 seconds RetCode: 0 Status: OK PackageFile: scPipe_2.10.0.tgz PackageFileSize: 13.72 MiB