Package: scPipe Version: 2.10.0 Maintainer: Shian Su MaintainerEmail: su.s at wehi.edu.au git_url: https://git.bioconductor.org/packages/scPipe git_branch: RELEASE_3_22 git_last_commit: c021029 git_last_commit_date: 2025-10-29 10:41:31 -0500 (Wed, 29 Oct 2025)