Package: scPCA Version: 1.24.0 Command: /home/biocbuild/bbs-3.22-bioc/R/bin/R CMD check --install=check:scPCA.install-out.txt --library=/home/biocbuild/bbs-3.22-bioc/R/site-library --timings scPCA_1.24.0.tar.gz StartedAt: 2025-11-11 04:01:07 -0500 (Tue, 11 Nov 2025) EndedAt: 2025-11-11 04:08:50 -0500 (Tue, 11 Nov 2025) EllapsedTime: 462.3 seconds RetCode: 0 Status: OK CheckDir: scPCA.Rcheck Warnings: 0