Package: scPCA Version: 1.24.0 Command: /Library/Frameworks/R.framework/Resources/bin/R CMD check --install=check:scPCA.install-out.txt --library=/Library/Frameworks/R.framework/Resources/library --no-vignettes --timings scPCA_1.24.0.tar.gz StartedAt: 2025-11-10 22:15:35 -0500 (Mon, 10 Nov 2025) EndedAt: 2025-11-10 22:16:47 -0500 (Mon, 10 Nov 2025) EllapsedTime: 71.8 seconds RetCode: 0 Status: OK CheckDir: scPCA.Rcheck Warnings: 0