Package: scMultiSim Version: 1.6.0 Command: /home/biocbuild/R/R/bin/R CMD INSTALL scMultiSim StartedAt: 2025-11-17 21:31:02 -0000 (Mon, 17 Nov 2025) EndedAt: 2025-11-17 21:31:41 -0000 (Mon, 17 Nov 2025) EllapsedTime: 39.5 seconds RetCode: 0 Status: OK