Package: scMultiSim Version: 1.6.0 Command: /home/biocbuild/R/R/bin/R CMD build --keep-empty-dirs --no-resave-data scMultiSim StartedAt: 2025-11-18 04:54:18 -0000 (Tue, 18 Nov 2025) EndedAt: 2025-11-18 05:06:09 -0000 (Tue, 18 Nov 2025) EllapsedTime: 711.3 seconds RetCode: 0 Status: OK PackageFile: scMultiSim_1.6.0.tar.gz PackageFileSize: 4.316 MiB