Package: scMET Version: 1.12.0 Command: /Library/Frameworks/R.framework/Resources/bin/R CMD check --install=check:scMET.install-out.txt --library=/Library/Frameworks/R.framework/Resources/library --no-vignettes --timings scMET_1.12.0.tar.gz StartedAt: 2025-11-01 00:03:07 -0400 (Sat, 01 Nov 2025) EndedAt: 2025-11-01 00:06:49 -0400 (Sat, 01 Nov 2025) EllapsedTime: 221.2 seconds RetCode: 0 Status: OK CheckDir: scMET.Rcheck Warnings: 0