Package: scLANE Version: 0.99.999999 Command: /home/biocbuild/R/R/bin/R CMD INSTALL scLANE StartedAt: 2025-10-23 20:27:08 -0000 (Thu, 23 Oct 2025) EndedAt: 2025-10-23 20:28:38 -0000 (Thu, 23 Oct 2025) EllapsedTime: 89.7 seconds RetCode: 0 Status: OK