Package: scLANE Version: 0.99.999999 Command: /home/biocbuild/R/R/bin/R CMD build --keep-empty-dirs --no-resave-data scLANE StartedAt: 2025-10-21 02:56:13 -0000 (Tue, 21 Oct 2025) EndedAt: 2025-10-21 02:58:37 -0000 (Tue, 21 Oct 2025) EllapsedTime: 144.1 seconds RetCode: 0 Status: OK PackageFile: scLANE_0.99.999999.tar.gz PackageFileSize: 2.8 MiB