Package: scLANE Version: 1.0.0 Command: /home/biocbuild/bbs-3.22-bioc/R/bin/R CMD INSTALL scLANE StartedAt: 2025-11-06 15:09:09 -0500 (Thu, 06 Nov 2025) EndedAt: 2025-11-06 15:10:01 -0500 (Thu, 06 Nov 2025) EllapsedTime: 52.5 seconds RetCode: 0 Status: OK