Package: scLANE Version: 1.0.0 Command: /home/biocbuild/bbs-3.22-bioc/R/bin/R CMD check --install=check:scLANE.install-out.txt --library=/home/biocbuild/bbs-3.22-bioc/R/site-library --timings scLANE_1.0.0.tar.gz StartedAt: 2025-11-07 03:45:22 -0500 (Fri, 07 Nov 2025) EndedAt: 2025-11-07 03:54:46 -0500 (Fri, 07 Nov 2025) EllapsedTime: 564.4 seconds RetCode: 0 Status: OK CheckDir: scLANE.Rcheck Warnings: 0