Package: scLANE Version: 1.0.0 Command: /Library/Frameworks/R.framework/Resources/bin/R CMD INSTALL scLANE StartedAt: 2025-11-06 15:05:39 -0500 (Thu, 06 Nov 2025) EndedAt: 2025-11-06 15:05:52 -0500 (Thu, 06 Nov 2025) EllapsedTime: 13.5 seconds RetCode: 0 Status: OK