Package: scHOT Version: 1.22.0 Command: /home/biocbuild/bbs-3.22-bioc/R/bin/R CMD check --install=check:scHOT.install-out.txt --library=/home/biocbuild/bbs-3.22-bioc/R/site-library --timings scHOT_1.22.0.tar.gz StartedAt: 2025-11-15 04:04:28 -0500 (Sat, 15 Nov 2025) EndedAt: 2025-11-15 04:10:27 -0500 (Sat, 15 Nov 2025) EllapsedTime: 358.2 seconds RetCode: 0 Status: OK CheckDir: scHOT.Rcheck Warnings: 0