Package: scFeatures Version: 1.9.0 Command: /home/biocbuild/R/R/bin/R CMD INSTALL scFeatures StartedAt: 2025-10-23 21:26:44 -0000 (Thu, 23 Oct 2025) EndedAt: 2025-10-23 21:28:23 -0000 (Thu, 23 Oct 2025) EllapsedTime: 99.2 seconds RetCode: 0 Status: OK