Package: scFeatures Version: 1.10.0 Command: /home/biocbuild/bbs-3.22-bioc/R/bin/R CMD build --keep-empty-dirs --no-resave-data --md5 scFeatures StartedAt: 2025-11-09 20:01:46 -0500 (Sun, 09 Nov 2025) EndedAt: 2025-11-09 20:04:13 -0500 (Sun, 09 Nov 2025) EllapsedTime: 147.1 seconds RetCode: 0 Status: OK PackageFile: scFeatures_1.10.0.tar.gz PackageFileSize: 2.949 MiB