Package: scDD Version: 1.32.0 Command: /home/biocbuild/bbs-3.21-bioc/R/bin/R CMD INSTALL scDD StartedAt: 2025-10-15 15:56:37 -0400 (Wed, 15 Oct 2025) EndedAt: 2025-10-15 15:57:12 -0400 (Wed, 15 Oct 2025) EllapsedTime: 34.3 seconds RetCode: 0 Status: OK